BEGIN:VCALENDAR
VERSION:2.0
PRODID:-//eventon.com NONSGML v1.0//EN
CALSCALE:GREGORIAN
METHOD:PUBLISH
BEGIN:VEVENT
UID:69e5e7e945299
DTSTAMP:20260420T084633Z
DTSTART:20260321T080000Z
DTEND:20260321T120000Z
LOCATION:Aarau Delfterstrasse 44 - 5004 Aarau
SUMMARY:Cours technique - Aarau 2026
DESCRIPTION:Cours technique de ju-jutsu dispensé par Denis Guélat. Aarau_
 2026_fr.pdf Aarau_2026_de.pdf\nhttps://www.bcvg.ch/events/cours-technique-a
 arau-2026/
URL:https://www.bcvg.ch/events/cours-technique-aarau-2026/
END:VEVENT
END:VCALENDAR