BEGIN:VCALENDAR
VERSION:2.0
PRODID:-//eventon.com NONSGML v1.0//EN
CALSCALE:GREGORIAN
METHOD:PUBLISH
BEGIN:VEVENT
UID:69e6403698fd2
DTSTAMP:20260420T150318Z
DTSTART:20261010T094500Z
DTEND:20261010T153000Z
LOCATION:Meyrin Avenue de Vaudagne 39
SUMMARY:Ju-Jutsu Day 2026
DESCRIPTION:Cours technique avec thèmes variés dispensés par plusieurs i
 ntervenants : JJ_Day_2026.pdf \nhttps://www.bcvg.ch/events/ju-jutsu-day-20
 26/
URL:https://www.bcvg.ch/events/ju-jutsu-day-2026/
END:VEVENT
END:VCALENDAR