BEGIN:VCALENDAR
VERSION:2.0
PRODID:-//eventon.com NONSGML v1.0//EN
CALSCALE:GREGORIAN
METHOD:PUBLISH
BEGIN:VEVENT
UID:69e640a2e2549
DTSTAMP:20260420T150506Z
DTSTART:20260606T070000Z
DTEND:20260606T110000Z
LOCATION:Bushido Club Versoix Genève Chemin Ami-Argand 40
SUMMARY:Stage d'été enfants 2026
DESCRIPTION:Traditionnel stage avant la pause estivale. Stage_été_2026.pd
 f\nhttps://www.bcvg.ch/events/stage-dete-enfants-2026/
URL:https://www.bcvg.ch/events/stage-dete-enfants-2026/
END:VEVENT
END:VCALENDAR